Workbook

Sheet Commercial Invoice
D2: P.O. Box 501
D3: Forest, VA 24551
D4: 800.541.6691
D5: worldhelp.net
A9: INVOICE - DECLARATION OF VALUE
A11: Ship Date:
A15: CONSIGNEE: | G15: NOTIFY PARTY:
A17: NAME: | B17: Fundación Corazones de Esperanza | G17: NAME: | H17: Fundación Corazones de Esperanza
A18: ADDRESS: | B18: Av Entre Av. 10 y 11 con calle 61 casa Nro. 11-1171 Oficina 6 Zona Universidad, Maracaibo Zulia. Zona postal 4002 | G18: ADDRESS: | H18: Av Entre Av. 10 y 11 con calle 61 casa Nro. 11-1171 Oficina 6 Zona Universidad, Maracaibo Zulia. Zona postal 4002
A19: CONTACT: | B19: Pedro Pablo Pirela Bracho CI. V-7804437 | G19: CONTACT: | H19: Pedro Pablo Pirela Bracho CI. V-7804437
A20: EMAIL: | B20: pedropablopirela@gmail.com | G20: EMAIL: | H20: pedropablopirela@gmail.com
A21: PHONE: | B21: +58 412-2844379 | G21: PHONE: | H21: +58 412-2844379
A22: NIT: | B22: J409225941
A26: SHIPMENT REFERENCE | G26: ROUTING INFORMATION:
A28: Project I.D.: | B28: S26029 | G28: Vessel:
A29: Reference #: | G29: Voyage #:
A30: Bill of Lading #: | G30: Port of Loading:
A31: AES ITN #: | B31: NOEEI 30.37 (H) | G31: Port of Discharge:
A32: License #: | B32: No License Required
G33: Freight Prepaid
A36: Container # | C36: Seal # | D36: Cargo Description | I36: Weight | J36: Value
D37: 35 PALLET(S) OF (1260 boxes) OF DONATED CARGO: DEHYDRATED RICE MANNA PACKS (36-370g BAGS). FOR HUMANITARIAN ASSISTANCE. THIS SHIPMENT IS A DONATION FOR RELIEF OR CHARITY ONLY. NOT TO BE RESOLD. NOT FOR EXCHANGE FOR PROFIT OR GAIN. NO COMMERCIAL VALUE. | J37: 5000
A39: *This shipment is a DONATION for relief or charity only. Not to be resold. Not for exchange for profit or gain. No commercial value.*
A41: The undersigned hereby certifies that to the best of their knowledge, the information on this statement is true and correct. The contents of this shipment are as stated above and do not contain any contraband drugs, weapons, firearms, ammunition, or explosives.
H45: =B11 -> 0
A46: Logistics and Warehouse Coordinator, Humanitarian Aid, Stephen Oesterheld | H46: Date

Sheet Packing List
D2: P.O. Box 501
D3: Forest, VA 24551
D4: 800.541.6691
D5: worldhelp.net
A9: PACKING LIST
A11: Ship Date: | B11: ='Commercial Invoice'!B11 -> 0
A15: CONSIGNEE: | F15: NOTIFY PARTY:
A17: NAME: | B17: ='Commercial Invoice'!B17 -> Fundación Corazones de Esperanza | F17: NAME: | G17: ='Commercial Invoice'!H17 -> Fundación Corazones de Esperanza
A18: ADDRESS: | B18: ='Commercial Invoice'!B18 -> Av Entre Av. 10 y 11 con calle 61 casa Nro. 11-1171 Oficina 6 Zona Universidad, Maracaibo Zulia. Zona postal 4002 | F18: ADDRESS: | G18: ='Commercial Invoice'!H18 -> Av Entre Av. 10 y 11 con calle 61 casa Nro. 11-1171 Oficina 6 Zona Universidad, Maracaibo Zulia. Zona postal 4002
A19: CONTACT: | B19: ='Commercial Invoice'!B19 -> Pedro Pablo Pirela Bracho CI. V-7804437 | F19: CONTACT: | G19: ='Commercial Invoice'!H19 -> Pedro Pablo Pirela Bracho CI. V-7804437
A20: EMAIL: | B20: ='Commercial Invoice'!B20 -> pedropablopirela@gmail.com | F20: EMAIL: | G20: ='Commercial Invoice'!H20 -> pedropablopirela@gmail.com
A21: PHONE: | B21: ='Commercial Invoice'!B21 -> +58 412-2844379 | F21: PHONE: | G21: ='Commercial Invoice'!H21 -> +58 412-2844379
A26: SHIPMENT REFERENCE | F26: ROUTING INFORMATION:
A28: Project I.D.: | B28: ='Commercial Invoice'!B28 -> S26029 | F28: Vessel: | G28: ='Commercial Invoice'!H28 -> 0
A29: Reference #: | B29: ='Commercial Invoice'!B29 -> 0 | F29: Voyage #: | G29: ='Commercial Invoice'!H29 -> 0
A30: Bill of Lading #: | B30: ='Commercial Invoice'!B30 -> 0 | F30: Port of Loading: | G30: ='Commercial Invoice'!H30 -> 0
A31: AES ITN #: | B31: ='Commercial Invoice'!B31 -> NOEEI 30.37 (H) | F31: Port of Discharge: | G31: ='Commercial Invoice'!H31 -> 0
F33: Freight Prepaid
A36: Container # | C36: Seal # | D36: Cargo Description | I36: Weight
A37: ='Commercial Invoice'!A37 -> 0 | C37: ='Commercial Invoice'!C37 -> 0 | D37: ='Commercial Invoice'!D37 -> 35 PALLET(S) OF (1260 boxes) OF DONATED CARGO: DEHYDRATED RICE MANNA PACKS (36-370g BAGS). FOR HUMANITARIAN ASSISTANCE. THIS SHIPMENT IS A DONATION FOR RELIEF OR CHARITY ONLY. NOT TO BE RESOLD. NOT FOR EXCHANGE FOR PROFIT OR GAIN. NO COMMERCIAL VALUE. | I37: ='Commercial Invoice'!I37 -> 0
A39: *This shipment is a DONATION for relief or charity only. Not to be resold. Not for exchange for profit or gain. No commercial value.*
A41: The undersigned hereby certifies that to the best of their knowledge, the information on this statement is true and correct. The contents of this shipment are as stated above and do not contain any contraband drugs, weapons, firearms, ammunition, or explosives.
G45: =B11 -> 0
A46: Logistics and Warehouse Coordinator, Humanitarian Aid, Stephen Oesterheld | G46: Date

Sheet Certificate of Donation
D2: P.O. Box 501
D3: Forest, VA 24551
D4: 800.541.6691
D5: worldhelp.net
A9: CERTIFICATE OF DONATION
A11: Ship Date: | B11: ='Commercial Invoice'!B11 -> 0
A13: To: Customs Officials and Whomever Else it May Concern,
A14: This letter is to certify that this shipment of donated humanitarian cargo: | G14: ='Commercial Invoice'!D37 -> 35 PALLET(S) OF (1260 boxes) OF DONATED CARGO: DEHYDRATED RICE MANNA PACKS (36-370g BAGS). FOR HUMANITARIAN ASSISTANCE. THIS SHIPMENT IS A DONATION FOR RELIEF OR CHARITY ONLY. NOT TO BE RESOLD. NOT FOR EXCHANGE FOR PROFIT OR GAIN. NO COMMERCIAL VALUE.
A15: is being sent through World Help as a free gift and a donation to the people of the receipient country. The consignee and notify party, who are responsible for handling this shipment are:
A19: CONSIGNEE: | G19: NOTIFY PARTY:
A21: NAME: | B21: ='Commercial Invoice'!B17 -> Fundación Corazones de Esperanza | G21: NAME: | H21: ='Commercial Invoice'!H17 -> Fundación Corazones de Esperanza
A22: ADDRESS: | B22: ='Commercial Invoice'!B18 -> Av Entre Av. 10 y 11 con calle 61 casa Nro. 11-1171 Oficina 6 Zona Universidad, Maracaibo Zulia. Zona postal 4002 | G22: ADDRESS: | H22: ='Commercial Invoice'!H18 -> Av Entre Av. 10 y 11 con calle 61 casa Nro. 11-1171 Oficina 6 Zona Universidad, Maracaibo Zulia. Zona postal 4002
A24: CONTACT: | B24: ='Commercial Invoice'!B19 -> Pedro Pablo Pirela Bracho CI. V-7804437 | G24: CONTACT: | H24: ='Commercial Invoice'!H19 -> Pedro Pablo Pirela Bracho CI. V-7804437
A25: EMAIL: | B25: ='Commercial Invoice'!B20 -> pedropablopirela@gmail.com | G25: EMAIL: | H25: ='Commercial Invoice'!H20 -> pedropablopirela@gmail.com
A26: PHONE: | B26: ='Commercial Invoice'!B21 -> +58 412-2844379 | G26: PHONE: | H26: ='Commercial Invoice'!H21 -> +58 412-2844379
A30: This shipment is to be administered by the party listed above and the relief agencies and mission groups working with the consignee. The contents of the shipment are to be used for humanitarian purposes only. The contents may be either distributed directly to the needy or used to manage and set up the logistical needs of its aid programs. The shipment is not to be sold, resold, or exchanged for profit or gain. Therefore, there is no commercial value to this shipment. The declaration of value, US $5,000, is for customs purposes only, and does not involve any currency of the destination country.
A32: The consignee listed above is hereby given permission to administer this shipment in the manner that it finds to be the most beneficial to the poor and needy peoples served by its mission and programs. This includes the sharing and re-donation of the contents of the shipment to other native institutions and agencies.
A36: Accordingly, it is requested that those parties handling the recipient, clearance, and onward forwarding of this shipment process it expeditiously and in good faith, so that the relief and charity efforts in the destination country can begin as soon as possible. Any changes to this statement needed to comply with the local rules and regulations may be made if in agreement with and attested by the signature of the consignee.
A40: Sincerely,
A45: Logistics and Warehouse Coordinator, Humanitarian Aid, Stephen Oesterheld
A47: SHIPMENT REFERENCE | G47: ROUTING INFORMATION:
A48: Project I.D.: | B48: ='Commercial Invoice'!B28:D28 -> S26029 | G48: Vessel: | H48: ='Commercial Invoice'!H28 -> 0
A49: Reference #: | B49: ='Commercial Invoice'!B29:D29 -> 0 | G49: Voyage #: | H49: ='Commercial Invoice'!H29 -> 0
A50: Bill of Lading #: | B50: ='Commercial Invoice'!B30:D30 -> 0 | G50: Port of Loading: | H50: ='Commercial Invoice'!H30 -> 0
G51: Port of Discharge: | H51: ='Commercial Invoice'!H31 -> 0
G52: Freight Prepaid

Sheet Letter of Donation
D2: P.O. Box 501
D3: Forest, VA 24551
D4: 800.541.6691
D5: worldhelp.net
A9: LETTER OF DONATION
A11: Ship Date: | B11: ='Commercial Invoice'!B11 -> 0
A13: Project I.D.: | B13: ='Commercial Invoice'!B28:D28 -> S26029
A17: CONSIGNEE: | G17: NOTIFY PARTY:
A19: NAME: | B19: ='Commercial Invoice'!B17 -> Fundación Corazones de Esperanza | G19: NAME: | H19: ='Commercial Invoice'!H17 -> Fundación Corazones de Esperanza
A20: ADDRESS: | B20: ='Commercial Invoice'!B18 -> Av Entre Av. 10 y 11 con calle 61 casa Nro. 11-1171 Oficina 6 Zona Universidad, Maracaibo Zulia. Zona postal 4002 | G20: ADDRESS: | H20: ='Commercial Invoice'!H18 -> Av Entre Av. 10 y 11 con calle 61 casa Nro. 11-1171 Oficina 6 Zona Universidad, Maracaibo Zulia. Zona postal 4002
A22: CONTACT: | B22: ='Commercial Invoice'!B19 -> Pedro Pablo Pirela Bracho CI. V-7804437 | G22: CONTACT: | H22: ='Commercial Invoice'!H19 -> Pedro Pablo Pirela Bracho CI. V-7804437
A23: EMAIL: | B23: ='Commercial Invoice'!B20 -> pedropablopirela@gmail.com | G23: EMAIL: | H23: ='Commercial Invoice'!H20 -> pedropablopirela@gmail.com
A24: PHONE: | B24: ='Commercial Invoice'!B21 -> +58 412-2844379 | G24: PHONE: | H24: ='Commercial Invoice'!H21 -> +58 412-2844379
A28: =B19 -> Fundación Corazones de Esperanza
A30: World Help is pleased to donate 1 x container of: | D30: ='Commercial Invoice'!D37 -> 35 PALLET(S) OF (1260 boxes) OF DONATED CARGO: DEHYDRATED RICE MANNA PACKS (36-370g BAGS). FOR HUMANITARIAN ASSISTANCE. THIS SHIPMENT IS A DONATION FOR RELIEF OR CHARITY ONLY. NOT TO BE RESOLD. NOT FOR EXCHANGE FOR PROFIT OR GAIN. NO COMMERCIAL VALUE.
A32: The container is identified as: | C32: ='Commercial Invoice'!A37 -> 0 | D32: | Seal #: | E32: ='Commercial Invoice'!C37 -> 0
A34: This donation is being made free of any charge to you and it is our understanding that this donation, now that it is under your control, will not be bartered, sold, or exchanged for profit or gain and will be used in compliance with the terms outlined in the World Help Partnership Agreement, signed by your organization. It is also our understanding that this donation will be used in accordance with your chartable purpose and tax exemption.
A38: It is a pleasure working with you in aiding the poor. We are pleased to be affiliated with your organization and this donation is a sign of our continued support and partnership.
A41: If you have any questions or concerns regarding this donation, please email us at humanitarianaid@worldhelp.net or call our office at 800-541-6691.
A43: Sincerely,
A49: Logistics and Warehouse Coordinator, Humanitarian Aid, Stephen Oesterheld
